BEGIN:VCALENDAR
VERSION:2.0
PRODID:-//Dexter O'Neal and The Funk Yard Band - ECPv6.15.20//NONSGML v1.0//EN
CALSCALE:GREGORIAN
METHOD:PUBLISH
X-ORIGINAL-URL:https://dexteroneal.com
X-WR-CALDESC:Events for Dexter O'Neal and The Funk Yard Band
REFRESH-INTERVAL;VALUE=DURATION:PT1H
X-Robots-Tag:noindex
X-PUBLISHED-TTL:PT1H
BEGIN:VTIMEZONE
TZID:America/Chicago
BEGIN:DAYLIGHT
TZOFFSETFROM:-0600
TZOFFSETTO:-0500
TZNAME:CDT
DTSTART:20250309T080000
END:DAYLIGHT
BEGIN:STANDARD
TZOFFSETFROM:-0500
TZOFFSETTO:-0600
TZNAME:CST
DTSTART:20251102T070000
END:STANDARD
BEGIN:DAYLIGHT
TZOFFSETFROM:-0600
TZOFFSETTO:-0500
TZNAME:CDT
DTSTART:20260308T080000
END:DAYLIGHT
BEGIN:STANDARD
TZOFFSETFROM:-0500
TZOFFSETTO:-0600
TZNAME:CST
DTSTART:20261101T070000
END:STANDARD
BEGIN:DAYLIGHT
TZOFFSETFROM:-0600
TZOFFSETTO:-0500
TZNAME:CDT
DTSTART:20270314T080000
END:DAYLIGHT
BEGIN:STANDARD
TZOFFSETFROM:-0500
TZOFFSETTO:-0600
TZNAME:CST
DTSTART:20271107T070000
END:STANDARD
END:VTIMEZONE
BEGIN:VEVENT
DTSTART;TZID=America/Chicago:20260613T190000
DTEND;TZID=America/Chicago:20260613T220000
DTSTAMP:20260422T080521
CREATED:20260107T014545Z
LAST-MODIFIED:20260107T014545Z
UID:10000197-1781377200-1781388000@dexteroneal.com
SUMMARY:Party in Lincoln Illinois (Ted tin Lizard) need to confirm
DESCRIPTION:
URL:https://dexteroneal.com/event/party-in-lincoln-illinois-ted-tin-lizard-need-to-confirm/
LOCATION:TBD
END:VEVENT
BEGIN:VEVENT
DTSTART;TZID=America/Chicago:20261003T180000
DTEND;TZID=America/Chicago:20261003T220000
DTSTAMP:20260422T080521
CREATED:20260127T192849Z
LAST-MODIFIED:20260417T162432Z
UID:10000206-1791050400-1791064800@dexteroneal.com
SUMMARY:Beat the Funk 2026 - Glen and Polly Barton Clinic @ Premier Event Center
DESCRIPTION:
URL:https://dexteroneal.com/event/beat-the-funk-out-of-ms/
LOCATION:TBD
END:VEVENT
END:VCALENDAR