BEGIN:VCALENDAR
VERSION:2.0
PRODID:-//Dexter O'Neal and The Funk Yard Band - ECPv6.15.20//NONSGML v1.0//EN
CALSCALE:GREGORIAN
METHOD:PUBLISH
X-WR-CALNAME:Dexter O'Neal and The Funk Yard Band
X-ORIGINAL-URL:https://dexteroneal.com
X-WR-CALDESC:Events for Dexter O'Neal and The Funk Yard Band
REFRESH-INTERVAL;VALUE=DURATION:PT1H
X-Robots-Tag:noindex
X-PUBLISHED-TTL:PT1H
BEGIN:VTIMEZONE
TZID:America/Chicago
BEGIN:DAYLIGHT
TZOFFSETFROM:-0600
TZOFFSETTO:-0500
TZNAME:CDT
DTSTART:20230312T080000
END:DAYLIGHT
BEGIN:STANDARD
TZOFFSETFROM:-0500
TZOFFSETTO:-0600
TZNAME:CST
DTSTART:20231105T070000
END:STANDARD
BEGIN:DAYLIGHT
TZOFFSETFROM:-0600
TZOFFSETTO:-0500
TZNAME:CDT
DTSTART:20240310T080000
END:DAYLIGHT
BEGIN:STANDARD
TZOFFSETFROM:-0500
TZOFFSETTO:-0600
TZNAME:CST
DTSTART:20241103T070000
END:STANDARD
BEGIN:DAYLIGHT
TZOFFSETFROM:-0600
TZOFFSETTO:-0500
TZNAME:CDT
DTSTART:20250309T080000
END:DAYLIGHT
BEGIN:STANDARD
TZOFFSETFROM:-0500
TZOFFSETTO:-0600
TZNAME:CST
DTSTART:20251102T070000
END:STANDARD
BEGIN:DAYLIGHT
TZOFFSETFROM:-0600
TZOFFSETTO:-0500
TZNAME:CDT
DTSTART:20260308T080000
END:DAYLIGHT
BEGIN:STANDARD
TZOFFSETFROM:-0500
TZOFFSETTO:-0600
TZNAME:CST
DTSTART:20261101T070000
END:STANDARD
END:VTIMEZONE
BEGIN:VEVENT
DTSTART;TZID=America/Chicago:20250816T180000
DTEND;TZID=America/Chicago:20250816T210000
DTSTAMP:20260422T092100
CREATED:20250409T162744Z
LAST-MODIFIED:20250409T162744Z
UID:10000166-1755367200-1755378000@dexteroneal.com
SUMMARY:New Life Church - Pastor Ahmad's 50th Birthday
DESCRIPTION:
URL:https://dexteroneal.com/event/new-life-church-pastor-ahmads-50th-birthday/
LOCATION:TBD
END:VEVENT
BEGIN:VEVENT
DTSTART;TZID=America/Chicago:20240920T180000
DTEND;TZID=America/Chicago:20240920T200000
DTSTAMP:20260422T092100
CREATED:20240703T001024Z
LAST-MODIFIED:20240716T170038Z
UID:10000105-1726855200-1726862400@dexteroneal.com
SUMMARY:African American Festival - Urbana Illinois
DESCRIPTION:
URL:https://dexteroneal.com/event/african-american-festival-urbana-illinois/
LOCATION:TBD
END:VEVENT
END:VCALENDAR