BEGIN:VCALENDAR
VERSION:2.0
PRODID:-//Dexter O'Neal and The Funk Yard Band - ECPv6.15.20//NONSGML v1.0//EN
CALSCALE:GREGORIAN
METHOD:PUBLISH
X-ORIGINAL-URL:https://dexteroneal.com
X-WR-CALDESC:Events for Dexter O'Neal and The Funk Yard Band
REFRESH-INTERVAL;VALUE=DURATION:PT1H
X-Robots-Tag:noindex
X-PUBLISHED-TTL:PT1H
BEGIN:VTIMEZONE
TZID:America/Chicago
BEGIN:DAYLIGHT
TZOFFSETFROM:-0600
TZOFFSETTO:-0500
TZNAME:CDT
DTSTART:20240310T080000
END:DAYLIGHT
BEGIN:STANDARD
TZOFFSETFROM:-0500
TZOFFSETTO:-0600
TZNAME:CST
DTSTART:20241103T070000
END:STANDARD
BEGIN:DAYLIGHT
TZOFFSETFROM:-0600
TZOFFSETTO:-0500
TZNAME:CDT
DTSTART:20250309T080000
END:DAYLIGHT
BEGIN:STANDARD
TZOFFSETFROM:-0500
TZOFFSETTO:-0600
TZNAME:CST
DTSTART:20251102T070000
END:STANDARD
BEGIN:DAYLIGHT
TZOFFSETFROM:-0600
TZOFFSETTO:-0500
TZNAME:CDT
DTSTART:20260308T080000
END:DAYLIGHT
BEGIN:STANDARD
TZOFFSETFROM:-0500
TZOFFSETTO:-0600
TZNAME:CST
DTSTART:20261101T070000
END:STANDARD
END:VTIMEZONE
BEGIN:VEVENT
DTSTART;TZID=America/Chicago:20250726T190000
DTEND;TZID=America/Chicago:20250726T210000
DTSTAMP:20260423T002316
CREATED:20250219T182233Z
LAST-MODIFIED:20250219T182440Z
UID:10000154-1753556400-1753563600@dexteroneal.com
SUMMARY:Goodfellas MC 20th anniversary @ Parke Hotel in Bloomington Illinois
DESCRIPTION:
URL:https://dexteroneal.com/event/goodfellas-mc-20th-anniversary-park-hotel-in-bloomington-illinois/
LOCATION:Parke Regency Hotel & Conference Center\, 1413 Leslie Dr\, Bloomington\, IL\, 61704\, United States
END:VEVENT
END:VCALENDAR