BEGIN:VCALENDAR
VERSION:2.0
PRODID:-//Dexter O'Neal and The Funk Yard Band - ECPv6.15.20//NONSGML v1.0//EN
CALSCALE:GREGORIAN
METHOD:PUBLISH
X-ORIGINAL-URL:https://dexteroneal.com
X-WR-CALDESC:Events for Dexter O'Neal and The Funk Yard Band
REFRESH-INTERVAL;VALUE=DURATION:PT1H
X-Robots-Tag:noindex
X-PUBLISHED-TTL:PT1H
BEGIN:VTIMEZONE
TZID:America/Chicago
BEGIN:DAYLIGHT
TZOFFSETFROM:-0600
TZOFFSETTO:-0500
TZNAME:CDT
DTSTART:20220313T080000
END:DAYLIGHT
BEGIN:STANDARD
TZOFFSETFROM:-0500
TZOFFSETTO:-0600
TZNAME:CST
DTSTART:20221106T070000
END:STANDARD
BEGIN:DAYLIGHT
TZOFFSETFROM:-0600
TZOFFSETTO:-0500
TZNAME:CDT
DTSTART:20230312T080000
END:DAYLIGHT
BEGIN:STANDARD
TZOFFSETFROM:-0500
TZOFFSETTO:-0600
TZNAME:CST
DTSTART:20231105T070000
END:STANDARD
BEGIN:DAYLIGHT
TZOFFSETFROM:-0600
TZOFFSETTO:-0500
TZNAME:CDT
DTSTART:20240310T080000
END:DAYLIGHT
BEGIN:STANDARD
TZOFFSETFROM:-0500
TZOFFSETTO:-0600
TZNAME:CST
DTSTART:20241103T070000
END:STANDARD
BEGIN:DAYLIGHT
TZOFFSETFROM:-0600
TZOFFSETTO:-0500
TZNAME:CDT
DTSTART:20250309T080000
END:DAYLIGHT
BEGIN:STANDARD
TZOFFSETFROM:-0500
TZOFFSETTO:-0600
TZNAME:CST
DTSTART:20251102T070000
END:STANDARD
BEGIN:DAYLIGHT
TZOFFSETFROM:-0600
TZOFFSETTO:-0500
TZNAME:CDT
DTSTART:20260308T080000
END:DAYLIGHT
BEGIN:STANDARD
TZOFFSETFROM:-0500
TZOFFSETTO:-0600
TZNAME:CST
DTSTART:20261101T070000
END:STANDARD
BEGIN:DAYLIGHT
TZOFFSETFROM:-0600
TZOFFSETTO:-0500
TZNAME:CDT
DTSTART:20270314T080000
END:DAYLIGHT
BEGIN:STANDARD
TZOFFSETFROM:-0500
TZOFFSETTO:-0600
TZNAME:CST
DTSTART:20271107T070000
END:STANDARD
END:VTIMEZONE
BEGIN:VEVENT
DTSTART;TZID=America/Chicago:20260130T200000
DTEND;TZID=America/Chicago:20260130T230000
DTSTAMP:20260423T020238
CREATED:20250907T155259Z
LAST-MODIFIED:20250907T155259Z
UID:10000184-1769803200-1769814000@dexteroneal.com
SUMMARY:Neon Bison - Peoria
DESCRIPTION:
URL:https://dexteroneal.com/event/neon-bison-peoria-2/
LOCATION:Neon Bison\, 617 Main St\, Peoria\, IL\, 61602\, United States
END:VEVENT
BEGIN:VEVENT
DTSTART;TZID=America/Chicago:20250809T210000
DTEND;TZID=America/Chicago:20250810T000000
DTSTAMP:20260423T020238
CREATED:20250314T142934Z
LAST-MODIFIED:20250407T204010Z
UID:10000160-1754773200-1754784000@dexteroneal.com
SUMMARY:Neon Bison - Peoria
DESCRIPTION:
URL:https://dexteroneal.com/event/neon-bison-peoria/
LOCATION:Neon Bison\, 617 Main St\, Peoria\, IL\, 61602\, United States
END:VEVENT
BEGIN:VEVENT
DTSTART;TZID=America/Chicago:20241102T210000
DTEND;TZID=America/Chicago:20241103T000000
DTSTAMP:20260423T020238
CREATED:20240201T152745Z
LAST-MODIFIED:20240201T152745Z
UID:10000077-1730581200-1730592000@dexteroneal.com
SUMMARY:Neon Bison
DESCRIPTION:
URL:https://dexteroneal.com/event/neon-bison-4/
LOCATION:Neon Bison\, 617 Main St\, Peoria\, IL\, 61602\, United States
END:VEVENT
BEGIN:VEVENT
DTSTART;TZID=America/Chicago:20240511T210000
DTEND;TZID=America/Chicago:20240512T000000
DTSTAMP:20260423T020238
CREATED:20231121T153222Z
LAST-MODIFIED:20231121T153222Z
UID:10000061-1715461200-1715472000@dexteroneal.com
SUMMARY:Neon Bison
DESCRIPTION:
URL:https://dexteroneal.com/event/neon-bison-3/
LOCATION:Neon Bison\, 617 Main St\, Peoria\, IL\, 61602\, United States
END:VEVENT
BEGIN:VEVENT
DTSTART;TZID=America/Chicago:20240323T210000
DTEND;TZID=America/Chicago:20240324T000000
DTSTAMP:20260423T020238
CREATED:20231121T153115Z
LAST-MODIFIED:20231121T153115Z
UID:10000060-1711227600-1711238400@dexteroneal.com
SUMMARY:Neon Bison
DESCRIPTION:
URL:https://dexteroneal.com/event/neon-bison-2/
LOCATION:Neon Bison\, 617 Main St\, Peoria\, IL\, 61602\, United States
END:VEVENT
BEGIN:VEVENT
DTSTART;TZID=America/Chicago:20231111T210000
DTEND;TZID=America/Chicago:20231112T000000
DTSTAMP:20260423T020238
CREATED:20230808T132217Z
LAST-MODIFIED:20230808T132217Z
UID:10000019-1699736400-1699747200@dexteroneal.com
SUMMARY:Neon Bison
DESCRIPTION:
URL:https://dexteroneal.com/event/neon-bison/
LOCATION:Neon Bison\, 617 Main St\, Peoria\, IL\, 61602\, United States
END:VEVENT
END:VCALENDAR