BEGIN:VCALENDAR
VERSION:2.0
PRODID:-//Dexter O'Neal and The Funk Yard Band - ECPv6.15.20//NONSGML v1.0//EN
CALSCALE:GREGORIAN
METHOD:PUBLISH
X-WR-CALNAME:Dexter O'Neal and The Funk Yard Band
X-ORIGINAL-URL:https://dexteroneal.com
X-WR-CALDESC:Events for Dexter O'Neal and The Funk Yard Band
REFRESH-INTERVAL;VALUE=DURATION:PT1H
X-Robots-Tag:noindex
X-PUBLISHED-TTL:PT1H
BEGIN:VTIMEZONE
TZID:America/Chicago
BEGIN:DAYLIGHT
TZOFFSETFROM:-0600
TZOFFSETTO:-0500
TZNAME:CDT
DTSTART:20250309T080000
END:DAYLIGHT
BEGIN:STANDARD
TZOFFSETFROM:-0500
TZOFFSETTO:-0600
TZNAME:CST
DTSTART:20251102T070000
END:STANDARD
BEGIN:DAYLIGHT
TZOFFSETFROM:-0600
TZOFFSETTO:-0500
TZNAME:CDT
DTSTART:20260308T080000
END:DAYLIGHT
BEGIN:STANDARD
TZOFFSETFROM:-0500
TZOFFSETTO:-0600
TZNAME:CST
DTSTART:20261101T070000
END:STANDARD
BEGIN:DAYLIGHT
TZOFFSETFROM:-0600
TZOFFSETTO:-0500
TZNAME:CDT
DTSTART:20270314T080000
END:DAYLIGHT
BEGIN:STANDARD
TZOFFSETFROM:-0500
TZOFFSETTO:-0600
TZNAME:CST
DTSTART:20271107T070000
END:STANDARD
END:VTIMEZONE
BEGIN:VEVENT
DTSTART;TZID=America/Chicago:20260605T200000
DTEND;TZID=America/Chicago:20260605T230000
DTSTAMP:20260422T080142
CREATED:20250716T155548Z
LAST-MODIFIED:20250716T155548Z
UID:10000177-1780689600-1780700400@dexteroneal.com
SUMMARY:Industry Brewing Co. - Peoria
DESCRIPTION:
URL:https://dexteroneal.com/event/industry-brewing-co-peoria/
LOCATION:Industry Brewing Co.\, 8012 N Hale Ave\, Peoria\, IL\, 61615\, United States
END:VEVENT
BEGIN:VEVENT
DTSTART;TZID=America/Chicago:20260821T200000
DTEND;TZID=America/Chicago:20260821T230000
DTSTAMP:20260422T080142
CREATED:20250716T155715Z
LAST-MODIFIED:20250716T155715Z
UID:10000178-1787342400-1787353200@dexteroneal.com
SUMMARY:Industry Brewing Co. - Peoria
DESCRIPTION:
URL:https://dexteroneal.com/event/industry-brewing-co-peoria-2/
LOCATION:Industry Brewing Co.\, 8012 N Hale Ave\, Peoria\, IL\, 61615\, United States
END:VEVENT
END:VCALENDAR