BEGIN:VCALENDAR
VERSION:2.0
PRODID:-//Dexter O'Neal and The Funk Yard Band - ECPv6.15.20//NONSGML v1.0//EN
CALSCALE:GREGORIAN
METHOD:PUBLISH
X-WR-CALNAME:Dexter O'Neal and The Funk Yard Band
X-ORIGINAL-URL:https://dexteroneal.com
X-WR-CALDESC:Events for Dexter O'Neal and The Funk Yard Band
REFRESH-INTERVAL;VALUE=DURATION:PT1H
X-Robots-Tag:noindex
X-PUBLISHED-TTL:PT1H
BEGIN:VTIMEZONE
TZID:America/Chicago
BEGIN:DAYLIGHT
TZOFFSETFROM:-0600
TZOFFSETTO:-0500
TZNAME:CDT
DTSTART:20240310T080000
END:DAYLIGHT
BEGIN:STANDARD
TZOFFSETFROM:-0500
TZOFFSETTO:-0600
TZNAME:CST
DTSTART:20241103T070000
END:STANDARD
BEGIN:DAYLIGHT
TZOFFSETFROM:-0600
TZOFFSETTO:-0500
TZNAME:CDT
DTSTART:20250309T080000
END:DAYLIGHT
BEGIN:STANDARD
TZOFFSETFROM:-0500
TZOFFSETTO:-0600
TZNAME:CST
DTSTART:20251102T070000
END:STANDARD
BEGIN:DAYLIGHT
TZOFFSETFROM:-0600
TZOFFSETTO:-0500
TZNAME:CDT
DTSTART:20260308T080000
END:DAYLIGHT
BEGIN:STANDARD
TZOFFSETFROM:-0500
TZOFFSETTO:-0600
TZNAME:CST
DTSTART:20261101T070000
END:STANDARD
END:VTIMEZONE
BEGIN:VEVENT
DTSTART;TZID=America/Chicago:20250725T200000
DTEND;TZID=America/Chicago:20250725T230000
DTSTAMP:20260424T204629
CREATED:20250410T185051Z
LAST-MODIFIED:20250410T185051Z
UID:10000169-1753473600-1753484400@dexteroneal.com
SUMMARY:Industry Brewing Co.
DESCRIPTION:
URL:https://dexteroneal.com/event/industry-brewing-co-4/
LOCATION:Industry Brewing Co.\, 8012 N Hale Ave\, Peoria\, IL\, 61615\, United States
END:VEVENT
BEGIN:VEVENT
DTSTART;TZID=America/Chicago:20250719T190000
DTEND;TZID=America/Chicago:20250720T230000
DTSTAMP:20260424T204629
CREATED:20241030T123034Z
LAST-MODIFIED:20250716T191128Z
UID:10000124-1752951600-1753052400@dexteroneal.com
SUMMARY:Mackinaw Winery
DESCRIPTION:
URL:https://dexteroneal.com/event/mackinaw-winery-2/
LOCATION:Mackinaw Valley Vineyard\, 33633 IL-9\, Mackinaw\, IL\, 61755\, United States
END:VEVENT
BEGIN:VEVENT
DTSTART;TZID=America/Chicago:20250712T210000
DTEND;TZID=America/Chicago:20250713T000000
DTSTAMP:20260424T204629
CREATED:20241209T205708Z
LAST-MODIFIED:20241209T205708Z
UID:10000134-1752354000-1752364800@dexteroneal.com
SUMMARY:Crusens - War Memorial - Peoria Illinois
DESCRIPTION:
URL:https://dexteroneal.com/event/crusens-war-memorial-peoria-illinois/
LOCATION:Crusen’s War Memorial\, 426 E War Memorial Dr.\, Peoria\, IL\, 61614\, United States
END:VEVENT
BEGIN:VEVENT
DTSTART;TZID=America/Chicago:20250705T200000
DTEND;TZID=America/Chicago:20250705T230000
DTSTAMP:20260424T204629
CREATED:20250108T201036Z
LAST-MODIFIED:20250410T184927Z
UID:10000145-1751745600-1751756400@dexteroneal.com
SUMMARY:Oliver's In the Heights
DESCRIPTION:
URL:https://dexteroneal.com/event/olivers-in-the-heights-4/
LOCATION:Oliver’s In the Heights\, 1231 E Samuel Ave\, Peoria Heights\, IL\, 61616\, United States
END:VEVENT
BEGIN:VEVENT
DTSTART;TZID=America/Chicago:20250704T180000
DTEND;TZID=America/Chicago:20250704T210000
DTSTAMP:20260424T204629
CREATED:20240711T153259Z
LAST-MODIFIED:20240711T153259Z
UID:10000106-1751652000-1751662800@dexteroneal.com
SUMMARY:Eastport Marina - 4th of July
DESCRIPTION:
URL:https://dexteroneal.com/event/eastport-marina-4th-of-july-2/
LOCATION:EastPort Marina\, 701 Mariners Way\, East Peoria\, IL\, 61611\, United States
END:VEVENT
BEGIN:VEVENT
DTSTART;TZID=America/Chicago:20250628T210000
DTEND;TZID=America/Chicago:20250629T000000
DTSTAMP:20260424T204629
CREATED:20240819T205741Z
LAST-MODIFIED:20240819T205741Z
UID:10000113-1751144400-1751155200@dexteroneal.com
SUMMARY:Tin Lizard Bar and Grill
DESCRIPTION:
URL:https://dexteroneal.com/event/tin-lizard-bar-and-grill-9/
LOCATION:WI
END:VEVENT
BEGIN:VEVENT
DTSTART;TZID=America/Chicago:20250625T170000
DTEND;TZID=America/Chicago:20250625T220000
DTSTAMP:20260424T204629
CREATED:20250415T185804Z
LAST-MODIFIED:20250617T144714Z
UID:10000170-1750870800-1750888800@dexteroneal.com
SUMMARY:WingFest @ Raber Packing Co. - West Peoria
DESCRIPTION:
URL:https://dexteroneal.com/event/wingfest-raber-packing-co-west-peoria/
LOCATION:Raber Packing Co.\, 3000 W Farmington Rd Il 61604\, West Peoria\, IL\, 61604\, United States
END:VEVENT
BEGIN:VEVENT
DTSTART;TZID=America/Chicago:20250620T200000
DTEND;TZID=America/Chicago:20250621T000000
DTSTAMP:20260424T204629
CREATED:20250107T183039Z
LAST-MODIFIED:20250107T183039Z
UID:10000142-1750449600-1750464000@dexteroneal.com
SUMMARY:Brasky's Bar & Grill
DESCRIPTION:
URL:https://dexteroneal.com/event/braskys-bar-grill-7/
LOCATION:Brasky’s Bar & Grill\, 9901 Knoxville Ave\, Peoria\, 61615\, United States
END:VEVENT
BEGIN:VEVENT
DTSTART;TZID=America/Chicago:20250615T170000
DTEND;TZID=America/Chicago:20250615T183000
DTSTAMP:20260424T204629
CREATED:20250409T164031Z
LAST-MODIFIED:20250612T183329Z
UID:10000167-1750006800-1750012200@dexteroneal.com
SUMMARY:Juneteenth -Comer Cox Park in Springfield\, IL
DESCRIPTION:
URL:https://dexteroneal.com/event/juneteenth-comer-cox-park-in-springfield-il/
LOCATION:Comer Cox Park\, 301 Martin Luther King Dr \,\, Springfield\, IL\, 62703\, United States
END:VEVENT
BEGIN:VEVENT
DTSTART;TZID=America/Chicago:20250614T180000
DTEND;TZID=America/Chicago:20250614T210000
DTSTAMP:20260424T204629
CREATED:20241217T204431Z
LAST-MODIFIED:20241217T204431Z
UID:10000138-1749924000-1749934800@dexteroneal.com
SUMMARY:Metamora Square
DESCRIPTION:
URL:https://dexteroneal.com/event/metamora-square-2/
LOCATION:Metamora Square\, Metamora Square\, Metamora\, IL\, 61548\, United States
END:VEVENT
BEGIN:VEVENT
DTSTART;TZID=America/Chicago:20250607T190000
DTEND;TZID=America/Chicago:20250607T220000
DTSTAMP:20260424T204629
CREATED:20250302T145438Z
LAST-MODIFIED:20250302T145438Z
UID:10000156-1749322800-1749333600@dexteroneal.com
SUMMARY:Private- Wedding Reception - Peoria
DESCRIPTION:
URL:https://dexteroneal.com/event/private-wedding-reception-peoria/
LOCATION:Venue Chisca\, 1009 SW Washington St\, Peoria\, IL\, 61602\, United States
END:VEVENT
BEGIN:VEVENT
DTSTART;TZID=America/Chicago:20250606T193000
DTEND;TZID=America/Chicago:20250606T210000
DTSTAMP:20260424T204629
CREATED:20250325T144047Z
LAST-MODIFIED:20250325T144047Z
UID:10000163-1749238200-1749243600@dexteroneal.com
SUMMARY:FunkYard @ The CEFCU Center Stage @ The Landing (Peoria RiverFront\,
DESCRIPTION:
URL:https://dexteroneal.com/event/funkyard-the-cefcu-center-stage-the-landing-peoria-riverfront/
LOCATION:CEFCU Center Stage at The Landing\, 200 Northeast Water Street\, Peoria\, IN\, 61602\, United States
END:VEVENT
BEGIN:VEVENT
DTSTART;TZID=America/Chicago:20250531T210000
DTEND;TZID=America/Chicago:20250531T223000
DTSTAMP:20260424T204629
CREATED:20250423T150037Z
LAST-MODIFIED:20250429T134156Z
UID:10000171-1748725200-1748730600@dexteroneal.com
SUMMARY:The Beat Champaign - Market Street (Outside) - Champaign Illinois
DESCRIPTION:
URL:https://dexteroneal.com/event/the-beat-champaign-market-street-outside/
LOCATION:Market Street – Chamopaign Illinois\, 200 N Market Street\, Champaign\, IL\, 61820\, United States
END:VEVENT
BEGIN:VEVENT
DTSTART;TZID=America/Chicago:20250517T200000
DTEND;TZID=America/Chicago:20250517T230000
DTSTAMP:20260424T204629
CREATED:20250312T192525Z
LAST-MODIFIED:20250312T192525Z
UID:10000157-1747512000-1747522800@dexteroneal.com
SUMMARY:Rose Bowl Tavern - Urbana\, IL
DESCRIPTION:
URL:https://dexteroneal.com/event/rose-bowl-tavern-urbana-il/
LOCATION:Rose Bowl Tavern\, 106 N Race St #1\,\, IL\, Urbana\, IL\, 61801\, United States
END:VEVENT
BEGIN:VEVENT
DTSTART;TZID=America/Chicago:20250516T210000
DTEND;TZID=America/Chicago:20250517T010000
DTSTAMP:20260424T204629
CREATED:20250325T184008Z
LAST-MODIFIED:20250325T184008Z
UID:10000164-1747429200-1747443600@dexteroneal.com
SUMMARY:Kenny's Westside Pub
DESCRIPTION:
URL:https://dexteroneal.com/event/kennys-westside-pub/
LOCATION:Kenny’s Westside Pub\, 112 SW Jefferson Ave\, Peoria\, IL\, 61602\, United States
END:VEVENT
BEGIN:VEVENT
DTSTART;TZID=America/Chicago:20250515T170000
DTEND;TZID=America/Chicago:20250515T210000
DTSTAMP:20260424T204629
CREATED:20250313T143620Z
LAST-MODIFIED:20250313T143620Z
UID:10000159-1747328400-1747342800@dexteroneal.com
SUMMARY:Zootini @ Peoria Zoo
DESCRIPTION:
URL:https://dexteroneal.com/event/zootini-peoria-zoo/
LOCATION:Peoria Zoo\, 2320 N Prospect Rd\, Peoria\, IL\, 61603\, United States
END:VEVENT
BEGIN:VEVENT
DTSTART;TZID=America/Chicago:20250510T190000
DTEND;TZID=America/Chicago:20250510T230000
DTSTAMP:20260424T204629
CREATED:20250221T162738Z
LAST-MODIFIED:20250325T161553Z
UID:10000155-1746903600-1746918000@dexteroneal.com
SUMMARY:Private @ Holiday Inn & Suites East Peoria\, an IHG Hotel
DESCRIPTION:
URL:https://dexteroneal.com/event/private-jonahs-seafood-house/
LOCATION:Holiday Inn & Suites East Peoria\, an IHG Hotel\, 101 Holiday St\, East Peoria\, 61611\, United States
END:VEVENT
BEGIN:VEVENT
DTSTART;TZID=America/Chicago:20250509T200000
DTEND;TZID=America/Chicago:20250509T230000
DTSTAMP:20260424T204629
CREATED:20250108T200950Z
LAST-MODIFIED:20250108T200950Z
UID:10000144-1746820800-1746831600@dexteroneal.com
SUMMARY:Oliver's In the Heights - Peoria
DESCRIPTION:
URL:https://dexteroneal.com/event/olivers-in-the-heights-peoria/
LOCATION:Oliver’s In the Heights\, 1231 E Samuel Ave\, Peoria Heights\, IL\, 61616\, United States
END:VEVENT
BEGIN:VEVENT
DTSTART;TZID=America/Chicago:20250503T210000
DTEND;TZID=America/Chicago:20250504T003000
DTSTAMP:20260424T204629
CREATED:20240522T155250Z
LAST-MODIFIED:20240920T145509Z
UID:10000100-1746306000-1746318600@dexteroneal.com
SUMMARY:Crusens - War Memorial
DESCRIPTION:
URL:https://dexteroneal.com/event/crusens-war-memorial-4/
LOCATION:Crusen’s War Memorial\, 426 E War Memorial Dr.\, Peoria\, IL\, 61614\, United States
END:VEVENT
BEGIN:VEVENT
DTSTART;TZID=America/Chicago:20250502T180000
DTEND;TZID=America/Chicago:20250502T220000
DTSTAMP:20260424T204629
CREATED:20250218T165453Z
LAST-MODIFIED:20250218T171120Z
UID:10000153-1746208800-1746223200@dexteroneal.com
SUMMARY:Friday Night Heights @ Tower Park in Peoria Heights
DESCRIPTION:
URL:https://dexteroneal.com/event/friday-night-heights-peoria-heights/
LOCATION:Tower Park – Peoria Heights\, 1222 E Kingman Ave\, Peoria Heights\, IL\, 61616\, United States
END:VEVENT
BEGIN:VEVENT
DTSTART;TZID=America/Chicago:20250426T200000
DTEND;TZID=America/Chicago:20250426T230000
DTSTAMP:20260424T204629
CREATED:20250316T232249Z
LAST-MODIFIED:20250316T232249Z
UID:10000162-1745697600-1745708400@dexteroneal.com
SUMMARY:Jazz Upfront
DESCRIPTION:
URL:https://dexteroneal.com/event/jazz-upfront-6/
LOCATION:Jazz Upfront\, 107 W Front St\, Bloomington\, IL\, 61701\, United States
END:VEVENT
BEGIN:VEVENT
DTSTART;TZID=America/Chicago:20250425T190000
DTEND;TZID=America/Chicago:20250425T220000
DTSTAMP:20260424T204629
CREATED:20240129T210104Z
LAST-MODIFIED:20250106T153049Z
UID:10000075-1745607600-1745618400@dexteroneal.com
SUMMARY:Marie Ray Pigee 65th Birthday / Retirement Party -  THE STATION SALOON
DESCRIPTION:
URL:https://dexteroneal.com/event/marie-ray-pigee-65th-birthday-party-location-tba/
LOCATION:THE STATION SALOON\, 1611 Morrissey Dr\, Bloomington\, IL\, 61704\, United States
END:VEVENT
BEGIN:VEVENT
DTSTART;TZID=America/Chicago:20250329T210000
DTEND;TZID=America/Chicago:20250330T000000
DTSTAMP:20260424T204629
CREATED:20240819T205620Z
LAST-MODIFIED:20240819T205620Z
UID:10000112-1743282000-1743292800@dexteroneal.com
SUMMARY:Tin Lizard Bar and Grill
DESCRIPTION:
URL:https://dexteroneal.com/event/tin-lizard-bar-and-grill-8/
LOCATION:Tin Lizard Bar and Grill\, 21 Blackjack Blvd\, East Peoria\, IL\, 61611\, United States
END:VEVENT
BEGIN:VEVENT
DTSTART;TZID=America/Chicago:20250317T150000
DTEND;TZID=America/Chicago:20250317T190000
DTSTAMP:20260424T204629
CREATED:20250117T210630Z
LAST-MODIFIED:20250317T121843Z
UID:10000148-1742223600-1742238000@dexteroneal.com
SUMMARY:St Patty's Day @ Oliver's In the Heights
DESCRIPTION:
URL:https://dexteroneal.com/event/st-pattys-day-olivers-in-the-heights/
LOCATION:Oliver’s In the Heights\, 1231 E Samuel Ave\, Peoria Heights\, IL\, 61616\, United States
END:VEVENT
BEGIN:VEVENT
DTSTART;TZID=America/Chicago:20250315T200000
DTEND;TZID=America/Chicago:20250315T230000
DTSTAMP:20260424T204629
CREATED:20250127T134611Z
LAST-MODIFIED:20250127T134611Z
UID:10000150-1742068800-1742079600@dexteroneal.com
SUMMARY:Pour Brothers in Peoria Heights
DESCRIPTION:
URL:https://dexteroneal.com/event/pour-brothers-in-peoria-heights/
LOCATION:Pour BROS. Craft Taproom\, 4450 N Prospect Rd Ste C-1\, Peoria Heights\, IL\, 61616\, United States
END:VEVENT
BEGIN:VEVENT
DTSTART;TZID=America/Chicago:20250314T200000
DTEND;TZID=America/Chicago:20250315T000000
DTSTAMP:20260424T204629
CREATED:20250107T182844Z
LAST-MODIFIED:20250107T182844Z
UID:10000141-1741982400-1741996800@dexteroneal.com
SUMMARY:Brasky's Bar & Grill
DESCRIPTION:
URL:https://dexteroneal.com/event/braskys-bar-grill-5/
LOCATION:Brasky’s Bar & Grill\, 9901 Knoxville Ave\, Peoria\, 61615\, United States
END:VEVENT
BEGIN:VEVENT
DTSTART;TZID=America/Chicago:20250308T200000
DTEND;TZID=America/Chicago:20250308T230000
DTSTAMP:20260424T204629
CREATED:20241120T033352Z
LAST-MODIFIED:20241120T033738Z
UID:10000131-1741464000-1741474800@dexteroneal.com
SUMMARY:Billy's Tap - Canton Illinois
DESCRIPTION:
URL:https://dexteroneal.com/event/billiys-tap-canton-illinois/
LOCATION:Billy’s Tap\, 172 East Elm\, Canton\, IL\, 61520\, United States
END:VEVENT
BEGIN:VEVENT
DTSTART;TZID=America/Chicago:20250228T180000
DTEND;TZID=America/Chicago:20250228T230000
DTSTAMP:20260424T204629
CREATED:20240508T134845Z
LAST-MODIFIED:20240508T134845Z
UID:10000095-1740765600-1740783600@dexteroneal.com
SUMMARY:Mardi Gras - Taking Action to End Human Trafficking.
DESCRIPTION:
URL:https://dexteroneal.com/event/mardi-gras-taking-action-to-end-human-trafficking/
LOCATION:TBA
END:VEVENT
BEGIN:VEVENT
DTSTART;TZID=America/Chicago:20250222T200000
DTEND;TZID=America/Chicago:20250222T230000
DTSTAMP:20260424T204629
CREATED:20250108T202957Z
LAST-MODIFIED:20250108T225300Z
UID:10000146-1740254400-1740265200@dexteroneal.com
SUMMARY:Oliver's In the Heights
DESCRIPTION:
URL:https://dexteroneal.com/event/olivers-in-the-heights-5/
LOCATION:Oliver’s In the Heights\, 1231 E Samuel Ave\, Peoria Heights\, IL\, 61616\, United States
END:VEVENT
BEGIN:VEVENT
DTSTART;TZID=America/Chicago:20250215T183000
DTEND;TZID=America/Chicago:20250215T203000
DTSTAMP:20260424T204629
CREATED:20240905T175416Z
LAST-MODIFIED:20240905T175416Z
UID:10000116-1739644200-1739651400@dexteroneal.com
SUMMARY:Rhythm and Soul Fundraiser - The Vault @ Reserve Artisan Ales - Galesburg Illinois
DESCRIPTION:Open to the public
URL:https://dexteroneal.com/event/rhythm-and-soul-fundraiser-the-vault-reserve-artisan-ales-galesburg-illinois/
LOCATION:The Vault at Reserve Artisian Ales\, 185 S. Kellogg St.\, Galesburg\, IL\, 61401\, United States
END:VEVENT
END:VCALENDAR