BEGIN:VCALENDAR
VERSION:2.0
PRODID:-//Dexter O'Neal and The Funk Yard Band - ECPv6.15.20//NONSGML v1.0//EN
CALSCALE:GREGORIAN
METHOD:PUBLISH
X-WR-CALNAME:Dexter O'Neal and The Funk Yard Band
X-ORIGINAL-URL:https://dexteroneal.com
X-WR-CALDESC:Events for Dexter O'Neal and The Funk Yard Band
REFRESH-INTERVAL;VALUE=DURATION:PT1H
X-Robots-Tag:noindex
X-PUBLISHED-TTL:PT1H
BEGIN:VTIMEZONE
TZID:America/Chicago
BEGIN:DAYLIGHT
TZOFFSETFROM:-0600
TZOFFSETTO:-0500
TZNAME:CDT
DTSTART:20240310T080000
END:DAYLIGHT
BEGIN:STANDARD
TZOFFSETFROM:-0500
TZOFFSETTO:-0600
TZNAME:CST
DTSTART:20241103T070000
END:STANDARD
BEGIN:DAYLIGHT
TZOFFSETFROM:-0600
TZOFFSETTO:-0500
TZNAME:CDT
DTSTART:20250309T080000
END:DAYLIGHT
BEGIN:STANDARD
TZOFFSETFROM:-0500
TZOFFSETTO:-0600
TZNAME:CST
DTSTART:20251102T070000
END:STANDARD
BEGIN:DAYLIGHT
TZOFFSETFROM:-0600
TZOFFSETTO:-0500
TZNAME:CDT
DTSTART:20260308T080000
END:DAYLIGHT
BEGIN:STANDARD
TZOFFSETFROM:-0500
TZOFFSETTO:-0600
TZNAME:CST
DTSTART:20261101T070000
END:STANDARD
END:VTIMEZONE
BEGIN:VEVENT
DTSTART;TZID=America/Chicago:20251206T200000
DTEND;TZID=America/Chicago:20251206T230000
DTSTAMP:20260424T174329
CREATED:20250929T132810Z
LAST-MODIFIED:20250929T132810Z
UID:10000188-1765051200-1765062000@dexteroneal.com
SUMMARY:Pour Brothers in Peoria Heights - inside
DESCRIPTION:
URL:https://dexteroneal.com/event/pour-brothers-in-peoria-heights-inside/
LOCATION:Pour BROS. Craft Taproom\, 4450 N Prospect Rd Ste C-1\, Peoria Heights\, IL\, 61616\, United States
END:VEVENT
BEGIN:VEVENT
DTSTART;TZID=America/Chicago:20251115T210000
DTEND;TZID=America/Chicago:20251116T000000
DTSTAMP:20260424T174329
CREATED:20241209T205928Z
LAST-MODIFIED:20241209T205928Z
UID:10000136-1763240400-1763251200@dexteroneal.com
SUMMARY:Crusens - War Memorial - Peoria Illinois
DESCRIPTION:
URL:https://dexteroneal.com/event/crusens-war-memorial-peoria-illinois-3/
LOCATION:Crusen’s War Memorial\, 426 E War Memorial Dr.\, Peoria\, IL\, 61614\, United States
END:VEVENT
BEGIN:VEVENT
DTSTART;TZID=America/Chicago:20251114T200000
DTEND;TZID=America/Chicago:20251114T230000
DTSTAMP:20260424T174329
CREATED:20251029T180708Z
LAST-MODIFIED:20251029T180708Z
UID:10000189-1763150400-1763161200@dexteroneal.com
SUMMARY:JazzUpfront
DESCRIPTION:
URL:https://dexteroneal.com/event/jazzupfront/
LOCATION:Jazz Upfront\, 107 W Front St\, Bloomington\, IL\, 61701\, United States
END:VEVENT
BEGIN:VEVENT
DTSTART;TZID=America/Chicago:20251101T200000
DTEND;TZID=America/Chicago:20251101T230000
DTSTAMP:20260424T174329
CREATED:20250523T133037Z
LAST-MODIFIED:20250807T231447Z
UID:10000173-1762027200-1762038000@dexteroneal.com
SUMMARY:Oliver's in Peoria Heights
DESCRIPTION:
URL:https://dexteroneal.com/event/olivers-in-peoria-heights-3/
LOCATION:Oliver’s In the Heights\, 1231 E Samuel Ave\, Peoria Heights\, IL\, 61616\, United States
END:VEVENT
BEGIN:VEVENT
DTSTART;TZID=America/Chicago:20251017T200000
DTEND;TZID=America/Chicago:20251018T000000
DTSTAMP:20260424T174329
CREATED:20250107T183127Z
LAST-MODIFIED:20250107T183127Z
UID:10000143-1760731200-1760745600@dexteroneal.com
SUMMARY:Brasky's Bar & Grill
DESCRIPTION:
URL:https://dexteroneal.com/event/braskys-bar-grill-8/
LOCATION:Brasky’s Bar & Grill\, 9901 Knoxville Ave\, Peoria\, 61615\, United States
END:VEVENT
BEGIN:VEVENT
DTSTART;TZID=America/Chicago:20251004T170000
DTEND;TZID=America/Chicago:20251004T213000
DTSTAMP:20260424T174329
CREATED:20241008T161732Z
LAST-MODIFIED:20241008T161732Z
UID:10000120-1759597200-1759613400@dexteroneal.com
SUMMARY:Beat the Funk Out of MS - Fundraiser @ 3300 Event Center
DESCRIPTION:
URL:https://dexteroneal.com/event/beat-the-funk-out-of-ms-fundraiser-3300-event-center/
LOCATION:3300 Event Center\, 3300 W Willow Knolls Dr\, Peoria\, IL 61614\, Peoria\, IL\, 61614\, United States
END:VEVENT
BEGIN:VEVENT
DTSTART;TZID=America/Chicago:20251003T210000
DTEND;TZID=America/Chicago:20251004T000000
DTSTAMP:20260424T174329
CREATED:20250915T175120Z
LAST-MODIFIED:20250915T175120Z
UID:10000185-1759525200-1759536000@dexteroneal.com
SUMMARY:Kenny's Westside Pub - Peoria
DESCRIPTION:
URL:https://dexteroneal.com/event/kennys-westside-pub-peoria/
LOCATION:Kenny’s Westside Pub\, 112 SW Jefferson Ave\, Peoria\, IL\, 61602\, United States
END:VEVENT
BEGIN:VEVENT
DTSTART;TZID=America/Chicago:20250928T153000
DTEND;TZID=America/Chicago:20250928T170000
DTSTAMP:20260424T174329
CREATED:20250818T140304Z
LAST-MODIFIED:20250818T140304Z
UID:10000181-1759073400-1759078800@dexteroneal.com
SUMMARY:Blue Ridge Community  Farm - Chilicothe Illinois
DESCRIPTION:
URL:https://dexteroneal.com/event/blue-ridge-community-farm-chilicothe-illinois/
LOCATION:Blue ridge Community Farm\, 21529 North Blue Ridge Road\, Chillicothe\, IL\, 61523\, United States
END:VEVENT
BEGIN:VEVENT
DTSTART;TZID=America/Chicago:20250927T200000
DTEND;TZID=America/Chicago:20250927T230000
DTSTAMP:20260424T174329
CREATED:20250211T152058Z
LAST-MODIFIED:20250211T152058Z
UID:10000152-1759003200-1759014000@dexteroneal.com
SUMMARY:Pour Brother's in the Courtyard - Peoria Heights
DESCRIPTION:
URL:https://dexteroneal.com/event/pour-brothers-in-the-courtyard-peoria-heights/
LOCATION:Pour BROS. Craft Taproom\, 4450 N Prospect Rd Ste C-1\, Peoria Heights\, IL\, 61616\, United States
END:VEVENT
BEGIN:VEVENT
DTSTART;TZID=America/Chicago:20250926T183000
DTEND;TZID=America/Chicago:20250926T203000
DTSTAMP:20260424T174329
CREATED:20241207T230305Z
LAST-MODIFIED:20241207T230305Z
UID:10000133-1758911400-1758918600@dexteroneal.com
SUMMARY:Contemporary Art Center of Peoria Illinois
DESCRIPTION:
URL:https://dexteroneal.com/event/contemporary-art-center-of-peoria-illinois/
LOCATION:Contemporary Art Center of Peoria Illinois\, 305 Southwest Water Street\, Peoria\, IL\, 61602\, United States
END:VEVENT
BEGIN:VEVENT
DTSTART;TZID=America/Chicago:20250920T210000
DTEND;TZID=America/Chicago:20250921T000000
DTSTAMP:20260424T174329
CREATED:20241209T205835Z
LAST-MODIFIED:20241209T205835Z
UID:10000135-1758402000-1758412800@dexteroneal.com
SUMMARY:Crusens - War Memorial - Peoria Illinois
DESCRIPTION:
URL:https://dexteroneal.com/event/crusens-war-memorial-peoria-illinois-2/
LOCATION:Crusen’s War Memorial\, 426 E War Memorial Dr.\, Peoria\, IL\, 61614\, United States
END:VEVENT
BEGIN:VEVENT
DTSTART;TZID=America/Chicago:20250919T200000
DTEND;TZID=America/Chicago:20250919T230000
DTSTAMP:20260424T174329
CREATED:20250825T033434Z
LAST-MODIFIED:20250825T033434Z
UID:10000182-1758312000-1758322800@dexteroneal.com
SUMMARY:Jazz Upfront - Bloomington Illinois
DESCRIPTION:
URL:https://dexteroneal.com/event/jazz-upfront-bloomington-illinois-4/
LOCATION:Jazz Upfront\, 107 W Front St\, Bloomington\, IL\, 61701\, United States
END:VEVENT
BEGIN:VEVENT
DTSTART;TZID=America/Chicago:20250918T170000
DTEND;TZID=America/Chicago:20250918T220000
DTSTAMP:20260424T174329
CREATED:20250312T192755Z
LAST-MODIFIED:20250312T192755Z
UID:10000158-1758214800-1758232800@dexteroneal.com
SUMMARY:OSF - BMW Fundraiser @ Peroia Country Club
DESCRIPTION:
URL:https://dexteroneal.com/event/osf-bmw-fundraiser-peroia-country-club/
LOCATION:Peoria Country Club\, 4700 N Grandview Dr\, Peoria Heights\, IL 61616\, Peoria\, 61616\, United States
END:VEVENT
BEGIN:VEVENT
DTSTART;TZID=America/Chicago:20250913T193000
DTEND;TZID=America/Chicago:20250913T213000
DTSTAMP:20260424T174329
CREATED:20241114T143526Z
LAST-MODIFIED:20250714T161154Z
UID:10000128-1757791800-1757799000@dexteroneal.com
SUMMARY:Hambrick Foundation and OSF - Benefit Special Needs Children
DESCRIPTION:
URL:https://dexteroneal.com/event/hambrick-foundation-and-osf-benefit-special-needs-children/
LOCATION:Brass Bull Tavern\, 111 W Jefferson St\,\, IL\, Morton\, IL\, 61550\, United States
END:VEVENT
BEGIN:VEVENT
DTSTART;TZID=America/Chicago:20250906T170000
DTEND;TZID=America/Chicago:20250906T193000
DTSTAMP:20260424T174329
CREATED:20250128T210253Z
LAST-MODIFIED:20250128T210529Z
UID:10000151-1757178000-1757187000@dexteroneal.com
SUMMARY:KBSTRONG EVENT: BROWNFEST - Fighting the Fight against Glioblastoma @ Countryside Banquet & Catering
DESCRIPTION:
URL:https://dexteroneal.com/event/kbstrong-event-brownfest-fighting-the-fight-against-glioblastoma-stone-cold-cowboys-also-playing-the-event/
LOCATION:Countryside Banquet & Facility\, 659 School St\,\, IL\, Washington\, IL\, 61571\, United States
END:VEVENT
BEGIN:VEVENT
DTSTART;TZID=America/Chicago:20250830T080000
DTEND;TZID=America/Chicago:20250831T000000
DTSTAMP:20260424T174329
CREATED:20240819T205822Z
LAST-MODIFIED:20240819T205822Z
UID:10000114-1756540800-1756598400@dexteroneal.com
SUMMARY:Tin Lizard Bar and Grill
DESCRIPTION:
URL:https://dexteroneal.com/event/tin-lizard-bar-and-grill-10/
LOCATION:IL
END:VEVENT
BEGIN:VEVENT
DTSTART;TZID=America/Chicago:20250829T210000
DTEND;TZID=America/Chicago:20250829T233000
DTSTAMP:20260424T174329
CREATED:20250409T175036Z
LAST-MODIFIED:20250718T151629Z
UID:10000168-1756501200-1756510200@dexteroneal.com
SUMMARY:Pour Brothers in Champaign Illinois
DESCRIPTION:
URL:https://dexteroneal.com/event/pour-borthers-in-champaign-illinois/
LOCATION:Pour Bros. Craft Taproom Champaign\, 40 E University Ave\, Champaign\, IL\, 61820\, United States
END:VEVENT
BEGIN:VEVENT
DTSTART;TZID=America/Chicago:20250823T190000
DTEND;TZID=America/Chicago:20250823T220000
DTSTAMP:20260424T174329
CREATED:20250117T210137Z
LAST-MODIFIED:20250117T210137Z
UID:10000147-1755975600-1755986400@dexteroneal.com
SUMMARY:Concerts & Cocktails" Evenings @ LaTeaDa Tea in Clinton Illinois
DESCRIPTION:
URL:https://dexteroneal.com/event/concerts-cocktails-evenings-lateada-tea-in-clinton-illinois/
LOCATION:LaTeaDa Tea\, 1100 South Madison Street\, Clinton\, IL\, 61727\, United States
END:VEVENT
BEGIN:VEVENT
DTSTART;TZID=America/Chicago:20250822T200000
DTEND;TZID=America/Chicago:20250823T000000
DTSTAMP:20260424T174329
CREATED:20250331T175057Z
LAST-MODIFIED:20250331T175057Z
UID:10000165-1755892800-1755907200@dexteroneal.com
SUMMARY:Knuckles Pzza and Sports Bar in Peoria
DESCRIPTION:
URL:https://dexteroneal.com/event/knuckles-pzza-and-sports-bar-in-peoria/
LOCATION:Knuckles Pizza & Sports Bar\, 1719 W Woodside Dr\, Dunlap\, IL\, 61525\, United States
END:VEVENT
BEGIN:VEVENT
DTSTART;TZID=America/Chicago:20250816T180000
DTEND;TZID=America/Chicago:20250816T210000
DTSTAMP:20260424T174329
CREATED:20250409T162744Z
LAST-MODIFIED:20250409T162744Z
UID:10000166-1755367200-1755378000@dexteroneal.com
SUMMARY:New Life Church - Pastor Ahmad's 50th Birthday
DESCRIPTION:
URL:https://dexteroneal.com/event/new-life-church-pastor-ahmads-50th-birthday/
LOCATION:TBD
END:VEVENT
BEGIN:VEVENT
DTSTART;TZID=America/Chicago:20250809T210000
DTEND;TZID=America/Chicago:20250810T000000
DTSTAMP:20260424T174329
CREATED:20250314T142934Z
LAST-MODIFIED:20250407T204010Z
UID:10000160-1754773200-1754784000@dexteroneal.com
SUMMARY:Neon Bison - Peoria
DESCRIPTION:
URL:https://dexteroneal.com/event/neon-bison-peoria/
LOCATION:Neon Bison\, 617 Main St\, Peoria\, IL\, 61602\, United States
END:VEVENT
BEGIN:VEVENT
DTSTART;TZID=America/Chicago:20250808T200000
DTEND;TZID=America/Chicago:20250808T230000
DTSTAMP:20260424T174329
CREATED:20250701T171231Z
LAST-MODIFIED:20250701T171231Z
UID:10000175-1754683200-1754694000@dexteroneal.com
SUMMARY:Jazz Upfront - Bloomington Illinois
DESCRIPTION:
URL:https://dexteroneal.com/event/jazz-upfront-bloomington-illinois-3/
LOCATION:Jazz Upfront\, 107 W Front St\, Bloomington\, IL\, 61701\, United States
END:VEVENT
BEGIN:VEVENT
DTSTART;TZID=America/Chicago:20250805T173000
DTEND;TZID=America/Chicago:20250805T203000
DTSTAMP:20260424T174329
CREATED:20250609T133819Z
LAST-MODIFIED:20250609T133819Z
UID:10000174-1754415000-1754425800@dexteroneal.com
SUMMARY:National Night Out- Oak Ridge Park\, Washington Illinois
DESCRIPTION:
URL:https://dexteroneal.com/event/national-night-out-oak-ridge-park-washington-illinois-2/
LOCATION:Oak Ridge Park\, 1500 N Cummings Ln\, Washington\, IL\, United States
END:VEVENT
BEGIN:VEVENT
DTSTART;TZID=America/Chicago:20250726T190000
DTEND;TZID=America/Chicago:20250726T210000
DTSTAMP:20260424T174329
CREATED:20250219T182233Z
LAST-MODIFIED:20250219T182440Z
UID:10000154-1753556400-1753563600@dexteroneal.com
SUMMARY:Goodfellas MC 20th anniversary @ Parke Hotel in Bloomington Illinois
DESCRIPTION:
URL:https://dexteroneal.com/event/goodfellas-mc-20th-anniversary-park-hotel-in-bloomington-illinois/
LOCATION:Parke Regency Hotel & Conference Center\, 1413 Leslie Dr\, Bloomington\, IL\, 61704\, United States
END:VEVENT
BEGIN:VEVENT
DTSTART;TZID=America/Chicago:20250725T200000
DTEND;TZID=America/Chicago:20250725T230000
DTSTAMP:20260424T174329
CREATED:20250410T185051Z
LAST-MODIFIED:20250410T185051Z
UID:10000169-1753473600-1753484400@dexteroneal.com
SUMMARY:Industry Brewing Co.
DESCRIPTION:
URL:https://dexteroneal.com/event/industry-brewing-co-4/
LOCATION:Industry Brewing Co.\, 8012 N Hale Ave\, Peoria\, IL\, 61615\, United States
END:VEVENT
BEGIN:VEVENT
DTSTART;TZID=America/Chicago:20250719T190000
DTEND;TZID=America/Chicago:20250720T230000
DTSTAMP:20260424T174329
CREATED:20241030T123034Z
LAST-MODIFIED:20250716T191128Z
UID:10000124-1752951600-1753052400@dexteroneal.com
SUMMARY:Mackinaw Winery
DESCRIPTION:
URL:https://dexteroneal.com/event/mackinaw-winery-2/
LOCATION:Mackinaw Valley Vineyard\, 33633 IL-9\, Mackinaw\, IL\, 61755\, United States
END:VEVENT
BEGIN:VEVENT
DTSTART;TZID=America/Chicago:20250712T210000
DTEND;TZID=America/Chicago:20250713T000000
DTSTAMP:20260424T174329
CREATED:20241209T205708Z
LAST-MODIFIED:20241209T205708Z
UID:10000134-1752354000-1752364800@dexteroneal.com
SUMMARY:Crusens - War Memorial - Peoria Illinois
DESCRIPTION:
URL:https://dexteroneal.com/event/crusens-war-memorial-peoria-illinois/
LOCATION:Crusen’s War Memorial\, 426 E War Memorial Dr.\, Peoria\, IL\, 61614\, United States
END:VEVENT
BEGIN:VEVENT
DTSTART;TZID=America/Chicago:20250705T200000
DTEND;TZID=America/Chicago:20250705T230000
DTSTAMP:20260424T174329
CREATED:20250108T201036Z
LAST-MODIFIED:20250410T184927Z
UID:10000145-1751745600-1751756400@dexteroneal.com
SUMMARY:Oliver's In the Heights
DESCRIPTION:
URL:https://dexteroneal.com/event/olivers-in-the-heights-4/
LOCATION:Oliver’s In the Heights\, 1231 E Samuel Ave\, Peoria Heights\, IL\, 61616\, United States
END:VEVENT
BEGIN:VEVENT
DTSTART;TZID=America/Chicago:20250704T180000
DTEND;TZID=America/Chicago:20250704T210000
DTSTAMP:20260424T174329
CREATED:20240711T153259Z
LAST-MODIFIED:20240711T153259Z
UID:10000106-1751652000-1751662800@dexteroneal.com
SUMMARY:Eastport Marina - 4th of July
DESCRIPTION:
URL:https://dexteroneal.com/event/eastport-marina-4th-of-july-2/
LOCATION:EastPort Marina\, 701 Mariners Way\, East Peoria\, IL\, 61611\, United States
END:VEVENT
BEGIN:VEVENT
DTSTART;TZID=America/Chicago:20250628T210000
DTEND;TZID=America/Chicago:20250629T000000
DTSTAMP:20260424T174329
CREATED:20240819T205741Z
LAST-MODIFIED:20240819T205741Z
UID:10000113-1751144400-1751155200@dexteroneal.com
SUMMARY:Tin Lizard Bar and Grill
DESCRIPTION:
URL:https://dexteroneal.com/event/tin-lizard-bar-and-grill-9/
LOCATION:IL
END:VEVENT
END:VCALENDAR