BEGIN:VCALENDAR
VERSION:2.0
PRODID:-//Dexter O'Neal and The Funk Yard Band - ECPv6.15.20//NONSGML v1.0//EN
CALSCALE:GREGORIAN
METHOD:PUBLISH
X-WR-CALNAME:Dexter O'Neal and The Funk Yard Band
X-ORIGINAL-URL:https://dexteroneal.com
X-WR-CALDESC:Events for Dexter O'Neal and The Funk Yard Band
REFRESH-INTERVAL;VALUE=DURATION:PT1H
X-Robots-Tag:noindex
X-PUBLISHED-TTL:PT1H
BEGIN:VTIMEZONE
TZID:America/Chicago
BEGIN:DAYLIGHT
TZOFFSETFROM:-0600
TZOFFSETTO:-0500
TZNAME:CDT
DTSTART:20220313T080000
END:DAYLIGHT
BEGIN:STANDARD
TZOFFSETFROM:-0500
TZOFFSETTO:-0600
TZNAME:CST
DTSTART:20221106T070000
END:STANDARD
BEGIN:DAYLIGHT
TZOFFSETFROM:-0600
TZOFFSETTO:-0500
TZNAME:CDT
DTSTART:20230312T080000
END:DAYLIGHT
BEGIN:STANDARD
TZOFFSETFROM:-0500
TZOFFSETTO:-0600
TZNAME:CST
DTSTART:20231105T070000
END:STANDARD
BEGIN:DAYLIGHT
TZOFFSETFROM:-0600
TZOFFSETTO:-0500
TZNAME:CDT
DTSTART:20240310T080000
END:DAYLIGHT
BEGIN:STANDARD
TZOFFSETFROM:-0500
TZOFFSETTO:-0600
TZNAME:CST
DTSTART:20241103T070000
END:STANDARD
BEGIN:DAYLIGHT
TZOFFSETFROM:-0600
TZOFFSETTO:-0500
TZNAME:CDT
DTSTART:20250309T080000
END:DAYLIGHT
BEGIN:STANDARD
TZOFFSETFROM:-0500
TZOFFSETTO:-0600
TZNAME:CST
DTSTART:20251102T070000
END:STANDARD
END:VTIMEZONE
BEGIN:VEVENT
DTSTART;TZID=America/Chicago:20240217T170000
DTEND;TZID=America/Chicago:20240217T223000
DTSTAMP:20260425T090703
CREATED:20230925T191746Z
LAST-MODIFIED:20230925T191746Z
UID:10000039-1708189200-1708209000@dexteroneal.com
SUMMARY:Private - Illinois Eye Center Company Party
DESCRIPTION:
URL:https://dexteroneal.com/event/private-illinois-eye-center-company-party/
LOCATION:3300 Event Center\, 3300 W Willow Knolls Dr\, Peoria\, IL 61614\, Peoria\, IL\, 61614\, United States
END:VEVENT
BEGIN:VEVENT
DTSTART;TZID=America/Chicago:20240209T180000
DTEND;TZID=America/Chicago:20240209T220000
DTSTAMP:20260425T090703
CREATED:20231102T164100Z
LAST-MODIFIED:20231102T164100Z
UID:10000051-1707501600-1707516000@dexteroneal.com
SUMMARY:Mardi Gras - Peoria North Rotary Club
DESCRIPTION:
URL:https://dexteroneal.com/event/mardi-gras-peoria-north-rotary-club/
LOCATION:Warehouse on State\, 736 SW Washington St\, Peoria\, IL 61602\, Peoria\, IL\, 61602\, United States
END:VEVENT
BEGIN:VEVENT
DTSTART;TZID=America/Chicago:20240208T170000
DTEND;TZID=America/Chicago:20240208T190000
DTSTAMP:20260425T090703
CREATED:20240203T161630Z
LAST-MODIFIED:20240203T161630Z
UID:10000079-1707411600-1707418800@dexteroneal.com
SUMMARY:Uncorked - @ Krannert Center for the Performing Arts - Champaign Illinois
DESCRIPTION:
URL:https://dexteroneal.com/event/uncorked-krannert-center-for-the-performing-arts-champaign-illinois/
LOCATION:Krannert Center for the Performing Arts\, 500 S Goodwin Ave\, Urbana\, IL\, 61801\, United States
END:VEVENT
BEGIN:VEVENT
DTSTART;TZID=America/Chicago:20240127T190000
DTEND;TZID=America/Chicago:20240127T223000
DTSTAMP:20260425T090703
CREATED:20231102T163307Z
LAST-MODIFIED:20231102T163307Z
UID:10000050-1706382000-1706394600@dexteroneal.com
SUMMARY:Fire Fighting Fundraising Gala - Madison Wisconsin
DESCRIPTION:
URL:https://dexteroneal.com/event/fire-fighting-fundraising-gala-madison-wisconsin/
LOCATION:Madison Overture Center for the Arts\, 201 State St\, Madison\, WI\, 53703\, United States
END:VEVENT
BEGIN:VEVENT
DTSTART;TZID=America/Chicago:20240126T210000
DTEND;TZID=America/Chicago:20240126T233000
DTSTAMP:20260425T090703
CREATED:20231115T154235Z
LAST-MODIFIED:20231115T154235Z
UID:10000058-1706302800-1706311800@dexteroneal.com
SUMMARY:Kenny's Westside:  Lowdown Brass Band w/ Dexter O'Neal & Funk Yard
DESCRIPTION:
URL:https://dexteroneal.com/event/kennys-westside-lowdown-brass-band-w-dexter-oneal-funk-yard/
LOCATION:Kenny’s Westside Pub\, 112 SW Jefferson Ave\, Peoria\, IL\, 61602\, United States
END:VEVENT
BEGIN:VEVENT
DTSTART;TZID=America/Chicago:20240120T203000
DTEND;TZID=America/Chicago:20240120T233000
DTSTAMP:20260425T090703
CREATED:20230919T160757Z
LAST-MODIFIED:20230919T160757Z
UID:10000037-1705782600-1705793400@dexteroneal.com
SUMMARY:Pour Bros Peoria Heights
DESCRIPTION:
URL:https://dexteroneal.com/event/pour-bros-peoria-heights/
LOCATION:Pour BROS. Craft Taproom\, 4450 N Prospect Rd Ste C-1\, Peoria Heights\, IL\, 61616\, United States
END:VEVENT
BEGIN:VEVENT
DTSTART;TZID=America/Chicago:20240119T190000
DTEND;TZID=America/Chicago:20240119T230000
DTSTAMP:20260425T090703
CREATED:20230823T132625Z
LAST-MODIFIED:20231017T011233Z
UID:10000027-1705690800-1705705200@dexteroneal.com
SUMMARY:MD's Sports Bar & Grill
DESCRIPTION:
URL:https://dexteroneal.com/event/mds-sports-bar-grill/
LOCATION:MD’s Sports Bar & Grill\, 7719 N University St\, Peoria\, IL\, 61614\, United States
END:VEVENT
BEGIN:VEVENT
DTSTART;TZID=America/Chicago:20240115T103000
DTEND;TZID=America/Chicago:20240115T150000
DTSTAMP:20260425T090703
CREATED:20231115T154704Z
LAST-MODIFIED:20231115T154704Z
UID:10000059-1705314600-1705330800@dexteroneal.com
SUMMARY:MLK Luncheon Banquet 2024
DESCRIPTION:
URL:https://dexteroneal.com/event/mlk-luncheon-banquet-2024/
LOCATION:Peoria Civic Center\, 201 SW Jefferson Ave\, Peoria\, 61602\, United States
END:VEVENT
BEGIN:VEVENT
DTSTART;TZID=America/Chicago:20240113T210000
DTEND;TZID=America/Chicago:20240114T000000
DTSTAMP:20260425T090703
CREATED:20231017T172933Z
LAST-MODIFIED:20231017T172933Z
UID:10000043-1705179600-1705190400@dexteroneal.com
SUMMARY:Tin Lizard Bar and Grill
DESCRIPTION:
URL:https://dexteroneal.com/event/tin-lizard-bar-and-grill-3/
LOCATION:Tin Lizard Bar and Grill\, 21 Blackjack Blvd\, East Peoria\, IL\, 61611\, United States
END:VEVENT
BEGIN:VEVENT
DTSTART;TZID=America/Chicago:20231231T210000
DTEND;TZID=America/Chicago:20240101T000000
DTSTAMP:20260425T090703
CREATED:20230808T132847Z
LAST-MODIFIED:20230808T132847Z
UID:10000021-1704056400-1704067200@dexteroneal.com
SUMMARY:Kenny's Westside Pub - New Years Eve
DESCRIPTION:
URL:https://dexteroneal.com/event/kennys-westside-pub-new-years-eve/
LOCATION:Kenny’s Westside Pub\, 112 SW Jefferson Ave\, Peoria\, IL\, 61602\, United States
END:VEVENT
BEGIN:VEVENT
DTSTART;TZID=America/Chicago:20231222T200000
DTEND;TZID=America/Chicago:20231223T000000
DTSTAMP:20260425T090703
CREATED:20231102T201134Z
LAST-MODIFIED:20231102T201134Z
UID:10000052-1703275200-1703289600@dexteroneal.com
SUMMARY:Brasky's Bar & Grill
DESCRIPTION:
URL:https://dexteroneal.com/event/braskys-bar-grill/
LOCATION:Brasky’s Bar & Grill\, 9901 Knoxville Ave\, Peoria\, 61615\, United States
END:VEVENT
BEGIN:VEVENT
DTSTART;TZID=America/Chicago:20231215T193000
DTEND;TZID=America/Chicago:20231215T223000
DTSTAMP:20260425T090703
CREATED:20231214T165608Z
LAST-MODIFIED:20231214T165608Z
UID:10000063-1702668600-1702679400@dexteroneal.com
SUMMARY:Oliver's in the Heights
DESCRIPTION:
URL:https://dexteroneal.com/event/olivers-in-the-heights-2/
LOCATION:Oliver’s In the Heights\, 1231 E Samuel Ave\, Peoria Heights\, IL\, 61616\, United States
END:VEVENT
BEGIN:VEVENT
DTSTART;TZID=America/Chicago:20231209T210000
DTEND;TZID=America/Chicago:20231210T000000
DTSTAMP:20260425T090703
CREATED:20230808T132445Z
LAST-MODIFIED:20230808T132445Z
UID:10000020-1702155600-1702166400@dexteroneal.com
SUMMARY:Tin Lizard Bar and Grill
DESCRIPTION:
URL:https://dexteroneal.com/event/tin-lizard-bar-and-grill-2/
LOCATION:Tin Lizard Bar and Grill\, 21 Blackjack Blvd\, East Peoria\, IL\, 61611\, United States
END:VEVENT
BEGIN:VEVENT
DTSTART;TZID=America/Chicago:20231201T200000
DTEND;TZID=America/Chicago:20231201T230000
DTSTAMP:20260425T090703
CREATED:20231030T190427Z
LAST-MODIFIED:20231030T190427Z
UID:10000049-1701460800-1701471600@dexteroneal.com
SUMMARY:Jazz Upfront
DESCRIPTION:
URL:https://dexteroneal.com/event/jazz-upfront/
LOCATION:Jazz Upfront\, 107 W Front St\, Bloomington\, IL\, 61701\, United States
END:VEVENT
BEGIN:VEVENT
DTSTART;TZID=America/Chicago:20231111T210000
DTEND;TZID=America/Chicago:20231112T000000
DTSTAMP:20260425T090703
CREATED:20230808T132217Z
LAST-MODIFIED:20230808T132217Z
UID:10000019-1699736400-1699747200@dexteroneal.com
SUMMARY:Neon Bison
DESCRIPTION:
URL:https://dexteroneal.com/event/neon-bison/
LOCATION:Neon Bison\, 617 Main St\, Peoria\, IL\, 61602\, United States
END:VEVENT
BEGIN:VEVENT
DTSTART;TZID=America/Chicago:20231110T193000
DTEND;TZID=America/Chicago:20231110T223000
DTSTAMP:20260425T090703
CREATED:20230808T131908Z
LAST-MODIFIED:20230808T131908Z
UID:10000018-1699644600-1699655400@dexteroneal.com
SUMMARY:Oliver's
DESCRIPTION:
URL:https://dexteroneal.com/event/olivers-2/
LOCATION:Oliver’s In the Heights\, 1231 E Samuel Ave\, Peoria Heights\, IL\, 61616\, United States
END:VEVENT
BEGIN:VEVENT
DTSTART;TZID=America/Chicago:20231028T180000
DTEND;TZID=America/Chicago:20231029T203000
DTSTAMP:20260425T090703
CREATED:20230808T131742Z
LAST-MODIFIED:20231025T200321Z
UID:10000017-1698516000-1698611400@dexteroneal.com
SUMMARY:Crusens War Memorial
DESCRIPTION:
URL:https://dexteroneal.com/event/crusens-war-memorial-2/
LOCATION:Crusen’s War Memorial\, 426 E War Memorial Dr.\, Peoria\, IL\, 61614\, United States
END:VEVENT
BEGIN:VEVENT
DTSTART;TZID=America/Chicago:20231015T174500
DTEND;TZID=America/Chicago:20231015T210000
DTSTAMP:20260425T090703
CREATED:20230809T194745Z
LAST-MODIFIED:20230809T194934Z
UID:10000025-1697391900-1697403600@dexteroneal.com
SUMMARY:Central Illinois center for the Blind and Visually Impaired - National White Cane Safety Day
DESCRIPTION:
URL:https://dexteroneal.com/event/central-illinois-center-for-the-blind-and-visually-impaired/
LOCATION:Peoria Riverfront Museum\, 222 SW Washington St\, Peoria\, IL\, 61602\, United States
END:VEVENT
BEGIN:VEVENT
DTSTART;TZID=America/Chicago:20231014T210000
DTEND;TZID=America/Chicago:20231015T003000
DTSTAMP:20260425T090703
CREATED:20230808T131254Z
LAST-MODIFIED:20230808T131254Z
UID:10000016-1697317200-1697329800@dexteroneal.com
SUMMARY:Tin Lizard Bar and Grill
DESCRIPTION:
URL:https://dexteroneal.com/event/tin-lizard-bar-and-grill/
LOCATION:Tin Lizard Bar and Grill\, 21 Blackjack Blvd\, East Peoria\, IL\, 61611\, United States
END:VEVENT
BEGIN:VEVENT
DTSTART;TZID=America/Chicago:20231013T193000
DTEND;TZID=America/Chicago:20231013T223000
DTSTAMP:20260425T090703
CREATED:20230808T130844Z
LAST-MODIFIED:20230808T130844Z
UID:10000015-1697225400-1697236200@dexteroneal.com
SUMMARY:Oliver's
DESCRIPTION:
URL:https://dexteroneal.com/event/olivers/
LOCATION:Oliver’s In the Heights\, 1231 E Samuel Ave\, Peoria Heights\, IL\, 61616\, United States
END:VEVENT
BEGIN:VEVENT
DTSTART;TZID=America/Chicago:20231007T193000
DTEND;TZID=America/Chicago:20231007T230000
DTSTAMP:20260425T090703
CREATED:20230808T130512Z
LAST-MODIFIED:20230808T130512Z
UID:10000014-1696707000-1696719600@dexteroneal.com
SUMMARY:Beat the Funk Out of MS - open to public
DESCRIPTION:
URL:https://dexteroneal.com/event/beat-the-funk-out-of-ms-open-to-public/
LOCATION:3300 Event Center\, 3300 W Willow Knolls Dr\, Peoria\, IL 61614\, Peoria\, IL\, 61614\, United States
END:VEVENT
BEGIN:VEVENT
DTSTART;TZID=America/Chicago:20230929T193000
DTEND;TZID=America/Chicago:20230929T223000
DTSTAMP:20260425T090703
CREATED:20230922T164912Z
LAST-MODIFIED:20230922T164912Z
UID:10000038-1696015800-1696026600@dexteroneal.com
SUMMARY:Oliver's In the Heights
DESCRIPTION:
URL:https://dexteroneal.com/event/olivers-in-the-heights/
LOCATION:Oliver’s In the Heights\, 1231 E Samuel Ave\, Peoria Heights\, IL\, 61616\, United States
END:VEVENT
BEGIN:VEVENT
DTSTART;TZID=America/Chicago:20230922T200000
DTEND;TZID=America/Chicago:20230923T000000
DTSTAMP:20260425T090703
CREATED:20230807T213215Z
LAST-MODIFIED:20230911T233405Z
UID:10000010-1695412800-1695427200@dexteroneal.com
SUMMARY:Brasky's Bar & Grill
DESCRIPTION:
URL:https://dexteroneal.com/event/crusens-rt-29/
LOCATION:Brasky’s Bar & Grill\, 9901 Knoxville Ave\, Peoria\, 61615\, United States
END:VEVENT
BEGIN:VEVENT
DTSTART;TZID=America/Chicago:20230916T190000
DTEND;TZID=America/Chicago:20230916T220000
DTSTAMP:20260425T090704
CREATED:20230808T125903Z
LAST-MODIFIED:20230808T125903Z
UID:10000013-1694890800-1694901600@dexteroneal.com
SUMMARY:Spring Bay American Legion
DESCRIPTION:
URL:https://dexteroneal.com/event/spring-bay-american-legion/
LOCATION:Spring Bay American Legion\, 500 Legion Ln\, East Peoria\, IL\, 61611\, United States
END:VEVENT
BEGIN:VEVENT
DTSTART;TZID=America/Chicago:20230915T200000
DTEND;TZID=America/Chicago:20230915T230000
DTSTAMP:20260425T090704
CREATED:20230817T133830Z
LAST-MODIFIED:20230817T133830Z
UID:10000026-1694808000-1694818800@dexteroneal.com
SUMMARY:Jazz UpFront - 107 W Front St\, Bloomington\, IL 61701
DESCRIPTION:
URL:https://dexteroneal.com/event/jazz-upfront-107-w-front-st-bloomington-il-61701/
LOCATION:Jazz Upfront\, 107 W Front St\, Bloomington\, IL\, 61701\, United States
END:VEVENT
BEGIN:VEVENT
DTSTART;TZID=America/Chicago:20230909T200000
DTEND;TZID=America/Chicago:20230909T230000
DTSTAMP:20260425T090704
CREATED:20230807T212844Z
LAST-MODIFIED:20230907T165529Z
UID:10000009-1694289600-1694300400@dexteroneal.com
SUMMARY:Industry Brewing Co.
DESCRIPTION:
URL:https://dexteroneal.com/event/industry-brewing-co/
LOCATION:Industry Brewing Co.\, 8012 N Hale Ave\, Peoria\, IL\, 61615\, United States
END:VEVENT
BEGIN:VEVENT
DTSTART;TZID=America/Chicago:20230902T210000
DTEND;TZID=America/Chicago:20230903T003000
DTSTAMP:20260425T090704
CREATED:20230807T212106Z
LAST-MODIFIED:20230807T212106Z
UID:10000007-1693688400-1693701000@dexteroneal.com
SUMMARY:Crusens War Memorial
DESCRIPTION:
URL:https://dexteroneal.com/event/crusens-war-memorial/
LOCATION:Crusen’s War Memorial\, 426 E War Memorial Dr.\, Peoria\, IL\, 61614\, United States
END:VEVENT
BEGIN:VEVENT
DTSTART;TZID=America/Chicago:20230901T173000
DTEND;TZID=America/Chicago:20230901T183000
DTSTAMP:20260425T090704
CREATED:20230807T212453Z
LAST-MODIFIED:20230807T212453Z
UID:10000008-1693589400-1693593000@dexteroneal.com
SUMMARY:Peoria Heritage & Blues Fest @ Riverfront Park
DESCRIPTION:
URL:https://dexteroneal.com/event/peoria-heritage-blues-fest-riverfront-park/
LOCATION:Riverfront Park\, Peoria\, United States
END:VEVENT
BEGIN:VEVENT
DTSTART;TZID=America/Chicago:20230826T050000
DTEND;TZID=America/Chicago:20230826T230000
DTSTAMP:20260425T090704
CREATED:20230807T211635Z
LAST-MODIFIED:20230807T211635Z
UID:10000006-1693026000-1693090800@dexteroneal.com
SUMMARY:Dakota Wedding Reception
DESCRIPTION:
URL:https://dexteroneal.com/event/dakota-wedding-reception/
LOCATION:Hickory Point Golf Course\, 727 W Weaver Rd\, Forsyth\, IL 62535\, Fortsyth\, IL\, 62535\, United States
END:VEVENT
BEGIN:VEVENT
DTSTART;TZID=America/Chicago:20230824T170000
DTEND;TZID=America/Chicago:20230824T220000
DTSTAMP:20260425T090704
CREATED:20230808T125106Z
LAST-MODIFIED:20230808T125106Z
UID:10000011-1692896400-1692914400@dexteroneal.com
SUMMARY:BMW Peoria Golf Classic Kick-Off Party
DESCRIPTION:
URL:https://dexteroneal.com/event/bmw-peoria-golf-classic-kick-off-party/
LOCATION:Peoria Country Club\, 4700 N Grandview Dr\, Peoria Heights\, IL 61616\, Peoria\, 61616\, United States
END:VEVENT
END:VCALENDAR